BEGIN:VCALENDAR
VERSION:2.0
PRODID:-//ARCADES Network - ECPv5.10.0//NONSGML v1.0//EN
CALSCALE:GREGORIAN
METHOD:PUBLISH
X-WR-CALNAME:ARCADES Network
X-ORIGINAL-URL:http://arcades-network.eu
X-WR-CALDESC:Events for ARCADES Network
BEGIN:VTIMEZONE
TZID:UTC
BEGIN:STANDARD
TZOFFSETFROM:+0000
TZOFFSETTO:+0000
TZNAME:UTC
DTSTART:20190101T000000
END:STANDARD
END:VTIMEZONE
BEGIN:VEVENT
DTSTART;TZID=UTC:20190327T090000
DTEND;TZID=UTC:20190329T170000
DTSTAMP:20260422T005302
CREATED:20190225T200722Z
LAST-MODIFIED:20190507T140054Z
UID:2637-1553677200-1553878800@arcades-network.eu
SUMMARY:Learning Week III
DESCRIPTION:Learning Week III : Growth and Harvest\n\n\n\nOBJECTIVES:\n– Help participants to acquire economical (entrepreneurial & industrial) mind-set and culture\n– Give them the operational competencies to be able to conduct an entrepreneurial project\n– Drive them all along the project journey towards the market. \nThe training will focus on the basics of how to operate a company especially a start up. The training will mix theory presentation as well as testimonials of professionals. \nSLIDES OF PRESENTATIONS:\nFellows can download the slides of this training event  (note that only fellows can see the download link). \n\n\n\nLocation\nThe meeting will take place at the Inria research center at Sophia Antipolis\, in the room Euler bleu on Wednesday and in the room K1/K2 (Kahn building) on Thursday and Friday. Lunches and breaks will be served on site. \n\nProgramme of the event:\nThe event will start on Wednesday morning and will close on Friday afternoon \nThe detailed program is available here. \nOn Thursday evening there will be a social dinner at the restaurant Le Transat in Antibes\, located 17 avenue du 11 novembre. \n\nVenue\nHere are some suggestions for lodging in Antibes with an easy access by bus to Sophia Antipolis by bus. \n\nHôtel Le Collier\, http://www.lecollier-hotelrestaurant.com/\n3 minutes by walk from the bus stop “pôle d’échange Antibes” (gare SNCF)\, bus line number 1 to Inria.\nHôtel de l’Etoile\, http://www.hoteletoile.com/\n7 minutes by walk from the bus stop “pôle d’échange Antibes (gare SNCF)\, bus line number 1 to Inria.\nHôtel Josse\, http://www.hotel-josse.com/ (more expensive)\n20 minutes by walk from the bus stop “pôle d’échange Antibes (gare SNCF)\, bus line number 1 to Inria.\nRelais du Postillon\, http://www.relaisdupostillon.com/\n8 minutes by walk from the restaurant where the social event will take place on Monday evening\n\nSchedule of the buses can be found here :\nhttp://www.envibus.fr/toutes-les-lignes-urbaines/ligne-1.html\nhttp://envibus-api.koezio.com/uploads/fiche/L001_PS_sept16_koeziov03.pdf \n\nOrganizors: Laurent Busé and Sophie Honnorat. Contact us if you have any questions.
URL:http://arcades-network.eu/index.php/event/learning-week-iii/
LOCATION:INRIA\, 2004 Route des Lucioles\, Sophia Antipolis \, Valbonne\, 06902\, France
END:VEVENT
END:VCALENDAR